BEGIN:VCALENDAR
VERSION:2.0
PRODID:-//C4 Training Group LLC - ECPv6.15.20//NONSGML v1.0//EN
CALSCALE:GREGORIAN
METHOD:PUBLISH
X-WR-CALNAME:C4 Training Group LLC
X-ORIGINAL-URL:https://c4traininggroup.com
X-WR-CALDESC:Events for C4 Training Group LLC
REFRESH-INTERVAL;VALUE=DURATION:PT1H
X-Robots-Tag:noindex
X-PUBLISHED-TTL:PT1H
BEGIN:VTIMEZONE
TZID:America/Anchorage
BEGIN:DAYLIGHT
TZOFFSETFROM:-0900
TZOFFSETTO:-0800
TZNAME:AKDT
DTSTART:20250309T110000
END:DAYLIGHT
BEGIN:STANDARD
TZOFFSETFROM:-0800
TZOFFSETTO:-0900
TZNAME:AKST
DTSTART:20251102T100000
END:STANDARD
BEGIN:DAYLIGHT
TZOFFSETFROM:-0900
TZOFFSETTO:-0800
TZNAME:AKDT
DTSTART:20260308T110000
END:DAYLIGHT
BEGIN:STANDARD
TZOFFSETFROM:-0800
TZOFFSETTO:-0900
TZNAME:AKST
DTSTART:20261101T100000
END:STANDARD
BEGIN:DAYLIGHT
TZOFFSETFROM:-0900
TZOFFSETTO:-0800
TZNAME:AKDT
DTSTART:20270314T110000
END:DAYLIGHT
BEGIN:STANDARD
TZOFFSETFROM:-0800
TZOFFSETTO:-0900
TZNAME:AKST
DTSTART:20271107T100000
END:STANDARD
END:VTIMEZONE
BEGIN:VEVENT
DTSTART;TZID=America/Anchorage:20260516T120000
DTEND;TZID=America/Anchorage:20260517T163000
DTSTAMP:20260421T042515
CREATED:20251105T054154Z
LAST-MODIFIED:20260210T191705Z
UID:3756-1778932800-1779035400@c4traininggroup.com
SUMMARY:Alaska Concealed Handgun Permit Class
DESCRIPTION:This is the NRA Basic Pistol with Legal and Use of Force class for armed Citizens who wish to apply for the Alaska Concealed Handgun Permit (ACHP). It meets all of the requirements and more. \nWe provide the training\, assist in the paperwork\, and do the fingerprinting. To complete the application requirement\, you must submit your forms (provided)\, fingerprint cards (provided for a small fee)\, photo\, and $87.00 to the State of Alaska. \nC4TG can provide everything you need to complete this course if you do not own a handgun\, holster\, or any equipment; our goal is your training so you develop the confidence to carry. \nThe course is 12 hours (State Requirement) runs on Saturday from 12:00 p.m. to 4:00 p.m. and Sunday from 9:00 a.m. to around 5:00 p.m.  \nThis is an excellent beginning Pistol class\, even if you do not want the ACHP. To take this course\, you must be able to own or possess a firearm legally. Due to ITARS\, you must be a U.S. citizen and provide proof if asked. You must meet the state of Alaska requirements per Alaska Statute 18.65.705 if you apply for an ACHP. \nYOU WILL RECEIVE AN EMAIL WITH ADDITIONAL INSTRUCTIONS. IF NOT RECEIVED\, CHECK YOUR SPAM OR JUNK FOLDER. IF NOT\, THEN CONTACT US AT C4TGLLC@GMAIL.COM.
URL:https://c4traininggroup.com/course/alaska-concealed-handgun-permit-class-28/
LOCATION:Alaska Ammo\, 340 Merhar Ave\, Fairbanks\, AK\, 99701\, United States
CATEGORIES:Concealed Handgun Permit
ATTACH;FMTTYPE=image/jpeg:https://c4traininggroup.com/wp-content/uploads/2018/10/dh1-2.jpg
END:VEVENT
END:VCALENDAR