BEGIN:VCALENDAR
VERSION:2.0
PRODID:-//C4 Training Group LLC - ECPv6.15.20//NONSGML v1.0//EN
CALSCALE:GREGORIAN
METHOD:PUBLISH
X-WR-CALNAME:C4 Training Group LLC
X-ORIGINAL-URL:https://c4traininggroup.com
X-WR-CALDESC:Events for C4 Training Group LLC
REFRESH-INTERVAL;VALUE=DURATION:PT1H
X-Robots-Tag:noindex
X-PUBLISHED-TTL:PT1H
BEGIN:VTIMEZONE
TZID:America/Anchorage
BEGIN:DAYLIGHT
TZOFFSETFROM:-0900
TZOFFSETTO:-0800
TZNAME:AKDT
DTSTART:20220313T110000
END:DAYLIGHT
BEGIN:STANDARD
TZOFFSETFROM:-0800
TZOFFSETTO:-0900
TZNAME:AKST
DTSTART:20221106T100000
END:STANDARD
BEGIN:DAYLIGHT
TZOFFSETFROM:-0900
TZOFFSETTO:-0800
TZNAME:AKDT
DTSTART:20230312T110000
END:DAYLIGHT
BEGIN:STANDARD
TZOFFSETFROM:-0800
TZOFFSETTO:-0900
TZNAME:AKST
DTSTART:20231105T100000
END:STANDARD
BEGIN:DAYLIGHT
TZOFFSETFROM:-0900
TZOFFSETTO:-0800
TZNAME:AKDT
DTSTART:20240310T110000
END:DAYLIGHT
BEGIN:STANDARD
TZOFFSETFROM:-0800
TZOFFSETTO:-0900
TZNAME:AKST
DTSTART:20241103T100000
END:STANDARD
BEGIN:DAYLIGHT
TZOFFSETFROM:-0900
TZOFFSETTO:-0800
TZNAME:AKDT
DTSTART:20250309T110000
END:DAYLIGHT
BEGIN:STANDARD
TZOFFSETFROM:-0800
TZOFFSETTO:-0900
TZNAME:AKST
DTSTART:20251102T100000
END:STANDARD
END:VTIMEZONE
BEGIN:VEVENT
DTSTART;TZID=America/Anchorage:20240803T120000
DTEND;TZID=America/Anchorage:20240804T163000
DTSTAMP:20260423T020857
CREATED:20240302T042926Z
LAST-MODIFIED:20240302T042926Z
UID:2946-1722686400-1722789000@c4traininggroup.com
SUMMARY:Alaska Concealed Handgun Permit Class
DESCRIPTION:This is the NRA Basic Pistol with legal and Use of Force class for those armed Citizens who wish to apply for the Alaska Concealed Handgun Permit (ACHP). This class meets all of the requirements and more. \nWe provide the training\, assist in the paperwork\, and do the fingerprinting. All you will need to do is submit your forms (provided)\, fingerprint cards (provided for a small fee)\, photo\, and $88.25 to the State of Alaska to finish out the application requirement. \nC4TG can provide everything to complete this course if you do not own a handgun\, holster\, or ANY equipment for that matter; our goal is your training so you develop the confidence to carry. \nThe course is 12 hours (State Requirement) and runs on Saturday from 12:00 p.m. to 4:00 p.m. and Sunday\, from 9:00 a.m. to around 5:00 p.m.  \nEven if you do not want the ACHP this is a great beginning Pistol class. You must be able to legally own or possess a firearm to take this course. Due to ITARS you must be a U.S Citizen and provide proof if asked. \nTWO WEEKS FROM THE CLASS DATE YOU WILL RECEIVE AN EMAIL WITH ADDITIONAL INSTRUCTIONS. IF NOT RECEIVED CHECK YOUR SPAM OR JUNK FOLDER. IF NOT THEN CONTACT US AT C4TGLLC@GMAIL.COM.
URL:https://c4traininggroup.com/course/alaska-concealed-handgun-permit-class-7/
LOCATION:Alaska Ammo\, 340 Merhar Ave\, Fairbanks\, AK\, 99701\, United States
CATEGORIES:Concealed Handgun Permit
END:VEVENT
BEGIN:VEVENT
DTSTART;TZID=America/Anchorage:20240427T120000
DTEND;TZID=America/Anchorage:20240428T163000
DTSTAMP:20260423T020857
CREATED:20240302T042633Z
LAST-MODIFIED:20240402T030351Z
UID:2941-1714219200-1714321800@c4traininggroup.com
SUMMARY:Alaska Concealed Handgun Permit Class
DESCRIPTION:This is the NRA Basic Pistol with legal and Use of Force class for those armed Citizens who wish to apply for the Alaska Concealed Handgun Permit (ACHP). This class meets all of the requirements and more. \nWe provide the training\, assist in the paperwork\, and do the fingerprinting. All you will need to do is submit your forms (provided)\, fingerprint cards (provided for a small fee)\, photo\, and $88.25 to the State of Alaska to finish out the application requirement. \nC4TG can provide everything to complete this course if you do not own a handgun\, holster\, or ANY equipment for that matter; our goal is your training so you develop the confidence to carry. \nThe course is 12 hours (State Requirement) and runs on Saturday from 12:00 p.m. to 4:00 p.m. and Sunday\, from 9:00 a.m. to around 5:00 p.m.  \nEven if you do not want the ACHP this is a great beginning Pistol class. You must be able to legally own or possess a firearm to take this course. Due to ITARS you must be a U.S Citizen and provide proof if asked. \nTWO WEEKS FROM THE CLASS DATE YOU WILL RECEIVE AN EMAIL WITH ADDITIONAL INSTRUCTIONS. IF NOT RECEIVED CHECK YOUR SPAM OR JUNK FOLDER. IF NOT THEN CONTACT US AT C4TGLLC@GMAIL.COM.
URL:https://c4traininggroup.com/course/alaska-concealed-handgun-permit-class-6/
LOCATION:Alaska Ammo\, 340 Merhar Ave\, Fairbanks\, AK\, 99701\, United States
CATEGORIES:Concealed Handgun Permit
END:VEVENT
BEGIN:VEVENT
DTSTART;TZID=America/Anchorage:20240323T120000
DTEND;TZID=America/Anchorage:20240324T163000
DTSTAMP:20260423T020857
CREATED:20240130T054931Z
LAST-MODIFIED:20240221T062458Z
UID:2872-1711195200-1711297800@c4traininggroup.com
SUMMARY:Alaska Concealed Handgun Permit Class
DESCRIPTION:This is the NRA Basic Pistol with legal and Use of Force class for those armed Citizens who wish to apply for the Alaska Concealed Handgun Permit (ACHP). This class meets all of the requirements and more. \nWe provide the training\, assist in the paperwork\, and do the fingerprinting. All you will need to do is submit your forms (provided)\, fingerprint cards (provided for a small fee)\, photo\, and $88.25 to the State of Alaska to finish out the application requirement. \nC4TG can provide everything to complete this course if you do not own a handgun\, holster\, or ANY equipment for that matter; our goal is your training so you develop the confidence to carry. \nThe course is 12 hours (State Requirement) and runs on Saturday from 12:00 p.m. to 4:00 p.m. and Sunday\, from 9:00 a.m. to around 5:00 p.m.  \nEven if you do not want the ACHP this is a great beginning Pistol class. You must be able to legally own or possess a firearm to take this course. Due to ITARS you must be a U.S Citizen and provide proof if asked. \nTWO WEEKS FROM THE CLASS DATE YOU WILL RECEIVE AN EMAIL WITH ADDITIONAL INSTRUCTIONS. IF NOT RECEIVED CHECK YOUR SPAM OR JUNK FOLDER. IF NOT THEN CONTACT US AT C4TGLLC@GMAIL.COM.
URL:https://c4traininggroup.com/course/alaska-concealed-handgun-permit-class-5/
LOCATION:Alaska Ammo\, 340 Merhar Ave\, Fairbanks\, AK\, 99701\, United States
CATEGORIES:Concealed Handgun Permit
END:VEVENT
BEGIN:VEVENT
DTSTART;TZID=America/Anchorage:20240217T120000
DTEND;TZID=America/Anchorage:20240218T160000
DTSTAMP:20260423T020857
CREATED:20230919T062935Z
LAST-MODIFIED:20240214T031243Z
UID:2659-1708171200-1708272000@c4traininggroup.com
SUMMARY:Alaska Concealed Handgun Permit Class
DESCRIPTION:This is the NRA Basic Pistol with legal and Use of Force class for those armed Citizens who wish to apply for the Alaska Concealed Handgun Permit (ACHP). This class meets all of the requirements and more. \nWe provide the training\, assist in the paperwork\, and do the fingerprinting. All you will need to do is submit your forms (provided)\, fingerprint cards (provided for a small fee)\, photo\, and $88.25 to the State of Alaska to finish out the application requirement. \nC4TG can provide everything to complete this course if you do not own a handgun\, holster\, or ANY equipment for that matter; our goal is your training so you develop the confidence to carry. \nThe course is 12 hours (State Requirement) and runs on Saturday from 12:00 p.m. to 4:00 p.m. and Sunday\, from 9:00 a.m. to around 5:00 p.m.  \nEven if you do not want the ACHP this is a great beginning Pistol class. You must be able to legally own or possess a firearm to take this course. Due to ITARS you must be a U.S Citizen and provide proof if asked. \nTWO WEEKS FROM THE CLASS DATE YOU WILL RECEIVE AN EMAIL WITH ADDITIONAL INSTRUCTIONS. IF NOT RECEIVED CHECK YOUR SPAM OR JUNK FOLDER. IF NOT THEN CONTACT US AT C4TGLLC@GMAIL.COM.
URL:https://c4traininggroup.com/course/alaska-concealed-handgun-permit-class-4/
LOCATION:Alaska Ammo\, 340 Merhar Ave\, Fairbanks\, AK\, 99701\, United States
CATEGORIES:Concealed Handgun Permit
END:VEVENT
BEGIN:VEVENT
DTSTART;TZID=America/Anchorage:20240127T120000
DTEND;TZID=America/Anchorage:20240128T160000
DTSTAMP:20260423T020857
CREATED:20230919T062302Z
LAST-MODIFIED:20231129T054419Z
UID:2652-1706356800-1706457600@c4traininggroup.com
SUMMARY:Alaska Concealed Handgun Permit Class
DESCRIPTION:This is the NRA Basic Pistol with legal and Use of Force class for those armed Citizens who wish to apply for the Alaska Concealed Handgun Permit (ACHP). This class meets all of the requirements and more. \nWe provide the training\, assist in the paperwork\, and do the fingerprinting. All you will need to do is submit your forms (provided)\, fingerprint cards (provided for a small fee)\, photo\, and $88.25 to the State of Alaska to finish out the application requirement. \nC4TG can provide everything to complete this course if you do not own a handgun\, holster\, or ANY equipment for that matter; our goal is your training so you develop the confidence to carry. \nThe course is 12 hours (State Requirement) and runs on Saturday from 12:00 p.m. to 4:00 p.m. and Sunday\, from 9:00 a.m. to around 5:00 p.m.  \nEven if you do not want the ACHP this is a great beginning Pistol class. You must be able to legally own or possess a firearm to take this course. Due to ITARS you must be a U.S Citizen and provide proof if asked. \nTWO WEEKS FROM THE CLASS DATE YOU WILL RECEIVE AN EMAIL WITH ADDITIONAL INSTRUCTIONS. IF NOT RECEIVED CHECK YOUR SPAM OR JUNK FOLDER. IF NOT THEN CONTACT US AT C4TGLLC@GMAIL.COM.
URL:https://c4traininggroup.com/course/alaska-concealed-handgun-permit-class-3/
LOCATION:Alaska Ammo\, 340 Merhar Ave\, Fairbanks\, AK\, 99701\, United States
CATEGORIES:Concealed Handgun Permit
END:VEVENT
BEGIN:VEVENT
DTSTART;TZID=America/Anchorage:20231209T120000
DTEND;TZID=America/Anchorage:20231210T160000
DTSTAMP:20260423T020857
CREATED:20230919T062000Z
LAST-MODIFIED:20231127T021031Z
UID:2646-1702123200-1702224000@c4traininggroup.com
SUMMARY:Alaska Concealed Handgun Permit Class
DESCRIPTION:This is the NRA Basic Pistol with legal and Use of Force class for those armed Citizens who wish to apply for the Alaska Concealed Handgun Permit (ACHP). This class meets all of the requirements and more. \nWe provide the training\, assist in the paperwork\, and do the fingerprinting. All you will need to do is submit your forms (provided)\, fingerprint cards (provided for a small fee)\, photo\, and $88.25 to the State of Alaska to finish out the application requirement. \nC4TG can provide everything to complete this course if you do not own a handgun\, holster\, or ANY equipment for that matter; our goal is your training so you develop the confidence to carry. \nThe course is 12 hours (State Requirement) and runs on Saturday from 12:00 p.m. to 4:00 p.m. and Sunday\, from 9:00 a.m. to around 5:00 p.m.  \nEven if you do not want the ACHP this is a great beginning Pistol class. You must be able to legally own or possess a firearm to take this course. Due to ITARS you must be a U.S Citizen and provide proof if asked. \nTWO WEEKS FROM THE CLASS DATE YOU WILL RECEIVE AN EMAIL WITH ADDITIONAL INSTRUCTIONS. IF NOT RECEIVED CHECK YOUR SPAM OR JUNK FOLDER. IF NOT THEN CONTACT US AT C4TGLLC@GMAIL.COM. \n*SOLD OUT*
URL:https://c4traininggroup.com/course/alaska-concealed-handgun-permit-class-2/
LOCATION:Alaska Ammo\, 340 Merhar Ave\, Fairbanks\, AK\, 99701\, United States
CATEGORIES:Concealed Handgun Permit
END:VEVENT
BEGIN:VEVENT
DTSTART;TZID=America/Anchorage:20231104T120000
DTEND;TZID=America/Anchorage:20231105T160000
DTSTAMP:20260423T020857
CREATED:20230919T061339Z
LAST-MODIFIED:20231025T011441Z
UID:2640-1699099200-1699200000@c4traininggroup.com
SUMMARY:Alaska Concealed Handgun Permit Class
DESCRIPTION:This is the NRA Basic Pistol with legal and Use of Force class for those armed Citizens who wish to apply for the Alaska Concealed Handgun Permit (ACHP). This class meets all of the requirements and more. \nWe provide the training\, assist in the paperwork\, and do the fingerprinting. All you will need to do is submit your forms (provided)\, fingerprint cards (provided for a small fee)\, photo\, and $88.25 to the State of Alaska to finish out the application requirement. \nC4TG can provide everything to complete this course if you do not own a handgun\, holster\, or ANY equipment for that matter; our goal is your training so you develop the confidence to carry. \nThe course is 12 hours (State Requirement) and runs on Saturday from 12:00 p.m. to 4:00 p.m. and Sunday\, from 9:00 a.m. to around 5:00 p.m.  \nEven if you do not want the ACHP this is a great beginning Pistol class. You must be able to legally own or possess a firearm to take this course. Due to ITARS you must be a U.S Citizen and provide proof if asked.
URL:https://c4traininggroup.com/course/alaska-concealed-handgun-permit-class/
LOCATION:Alaska Ammo\, 340 Merhar Ave\, Fairbanks\, AK\, 99701\, United States
CATEGORIES:Concealed Handgun Permit
END:VEVENT
BEGIN:VEVENT
DTSTART;TZID=America/Anchorage:20230930T120000
DTEND;TZID=America/Anchorage:20231001T160000
DTSTAMP:20260423T020857
CREATED:20190817T165959Z
LAST-MODIFIED:20230929T184536Z
UID:1846-1696075200-1696176000@c4traininggroup.com
SUMMARY:Alaska Concealed Handgun Permit Class
DESCRIPTION:This is the NRA Basic Pistol with legal and Use of Force class for those armed Citizens who wish to apply for the Alaska Concealed Handgun Permit (ACHP). This class meets all of the requirements and more. \nWe provide the training\, assist in the paperwork\, and do the fingerprinting. All you will need to do is submit your forms (provided)\, fingerprint cards (provided for a small fee)\, photo\, and $88.25 to the State of Alaska to finish out the application requirement. \nC4TG can provide everything to complete this course if you do not own a handgun\, holster\, or ANY equipment for that matter; our goal is your training so you develop the confidence to carry. \nThe course is 12 hours (State Requirement) and runs on Saturday from 12:00 p.m. to 4:00 p.m. and Sunday\, from 9:00 a.m. to around 5:00 p.m.  \nEven if you do not want the ACHP this is a great beginning Pistol class. You must be able to legally own or possess a firearm to take this course. Due to ITARS you must be a U.S Citizen and provide proof if asked.
URL:https://c4traininggroup.com/course/alaska-concealed-handgun-permit-3/
LOCATION:Alaska Ammo\, 340 Merhar Ave\, Fairbanks\, AK\, 99701\, United States
CATEGORIES:Concealed Handgun Permit
END:VEVENT
END:VCALENDAR